BEGIN:VCALENDAR
VERSION:2.0
PRODID:-//hacksw/handcal//NONSGML v1.0//EN
BEGIN:VEVENT
SUMMARY:Assemblee Generale
UID:5f377e2c-cc28-4995-b5a4-f8b6cd77eaba
DTSTART:20260831T220000Z
DTEND:20260901T220000Z
LOCATION:Localisation salle Jean Dieuzaide 31650 saint-Orens de Gameville
CATEGORIES:Manifestation
STATUS:
DESCRIPTION:<p>STOM vous convie a son Assemblee Generale Ordinaire
 qui se deroulera a la salle Jean Dieuzaide (maison des associations)
 31650 Saint-Orens de Gameville.</p>
URL;VALUE=URI:https://www.saintorensmontagne.fr/evenements/2026/09/01/assemblee-generale-2441241
END:VEVENT
END:VCALENDAR
